BEGIN:VCALENDAR
VERSION:2.0
PRODID:-//Faith Action Network - ECPv6.15.20//NONSGML v1.0//EN
CALSCALE:GREGORIAN
METHOD:PUBLISH
X-ORIGINAL-URL:https://fanwa.org
X-WR-CALDESC:Events for Faith Action Network
REFRESH-INTERVAL;VALUE=DURATION:PT1H
X-Robots-Tag:noindex
X-PUBLISHED-TTL:PT1H
BEGIN:VTIMEZONE
TZID:America/Los_Angeles
BEGIN:DAYLIGHT
TZOFFSETFROM:-0800
TZOFFSETTO:-0700
TZNAME:PDT
DTSTART:20240310T100000
END:DAYLIGHT
BEGIN:STANDARD
TZOFFSETFROM:-0700
TZOFFSETTO:-0800
TZNAME:PST
DTSTART:20241103T090000
END:STANDARD
BEGIN:DAYLIGHT
TZOFFSETFROM:-0800
TZOFFSETTO:-0700
TZNAME:PDT
DTSTART:20250309T100000
END:DAYLIGHT
BEGIN:STANDARD
TZOFFSETFROM:-0700
TZOFFSETTO:-0800
TZNAME:PST
DTSTART:20251102T090000
END:STANDARD
BEGIN:DAYLIGHT
TZOFFSETFROM:-0800
TZOFFSETTO:-0700
TZNAME:PDT
DTSTART:20260308T100000
END:DAYLIGHT
BEGIN:STANDARD
TZOFFSETFROM:-0700
TZOFFSETTO:-0800
TZNAME:PST
DTSTART:20261101T090000
END:STANDARD
END:VTIMEZONE
BEGIN:VEVENT
DTSTART;TZID=America/Los_Angeles:20250514T190000
DTEND;TZID=America/Los_Angeles:20250514T210000
DTSTAMP:20260424T011234
CREATED:20250508T231958Z
LAST-MODIFIED:20250508T232604Z
UID:29709-1747249200-1747256400@fanwa.org
SUMMARY:Missing and Murdered Indigenous Women/People: Committed to Bringing Them Home
DESCRIPTION:Please join us for Missing and Murdered Indigenous Women/People: Committed to Bringing Them Home\nZoom forum with Rev. Linda Smith\, Tulalip Elder; Representatives of the Attorney General’s Office; & Tribal Liaisons\nRegister Here 
URL:https://fanwa.org/event/missing-and-murdered-indigenous-women-people-committed-to-bringing-them-home/
LOCATION:Zoom
CATEGORIES:Community Event
ATTACH;FMTTYPE=image/png:https://fanwa.org/wp-content/uploads/2025/05/image.png
END:VEVENT
END:VCALENDAR