BEGIN:VCALENDAR
VERSION:2.0
PRODID:-//Faith Action Network - ECPv6.15.20//NONSGML v1.0//EN
CALSCALE:GREGORIAN
METHOD:PUBLISH
X-WR-CALNAME:Faith Action Network
X-ORIGINAL-URL:https://fanwa.org
X-WR-CALDESC:Events for Faith Action Network
REFRESH-INTERVAL;VALUE=DURATION:PT1H
X-Robots-Tag:noindex
X-PUBLISHED-TTL:PT1H
BEGIN:VTIMEZONE
TZID:America/Los_Angeles
BEGIN:DAYLIGHT
TZOFFSETFROM:-0800
TZOFFSETTO:-0700
TZNAME:PDT
DTSTART:20240310T100000
END:DAYLIGHT
BEGIN:STANDARD
TZOFFSETFROM:-0700
TZOFFSETTO:-0800
TZNAME:PST
DTSTART:20241103T090000
END:STANDARD
BEGIN:DAYLIGHT
TZOFFSETFROM:-0800
TZOFFSETTO:-0700
TZNAME:PDT
DTSTART:20250309T100000
END:DAYLIGHT
BEGIN:STANDARD
TZOFFSETFROM:-0700
TZOFFSETTO:-0800
TZNAME:PST
DTSTART:20251102T090000
END:STANDARD
BEGIN:DAYLIGHT
TZOFFSETFROM:-0800
TZOFFSETTO:-0700
TZNAME:PDT
DTSTART:20260308T100000
END:DAYLIGHT
BEGIN:STANDARD
TZOFFSETFROM:-0700
TZOFFSETTO:-0800
TZNAME:PST
DTSTART:20261101T090000
END:STANDARD
END:VTIMEZONE
BEGIN:VEVENT
DTSTART;TZID=America/Los_Angeles:20250419T130000
DTEND;TZID=America/Los_Angeles:20250419T150000
DTSTAMP:20260424T024128
CREATED:20250417T183225Z
LAST-MODIFIED:20250417T183225Z
UID:29662-1745067600-1745074800@fanwa.org
SUMMARY:Faith and Labor Roundtable Event
DESCRIPTION:Do you want tax fairness in Washington\, but aren’t sure how to talk about it or you are looking for more allies as we continue this work? Come out to our FAN Seattle Office for this messaging training and skill up to demand a Washington that works for all of us. The Faith + Labor Coalition welcomes everyone —labor allies\, people of faith\, and community members to join together on 4/19 for this workshop. Sign up for the event and watch the promo reel to see the success of our first meeting together between unions and faith communities! \nFAN Advocates Blake Alford\, Steve Clagett\, and Kristin Ang will be presenting/present as well as pastors Joe Sheeran and Phil Lewis. Come join us!
URL:https://fanwa.org/event/faith-and-labor-roundtable-event/
LOCATION:Zoom
CATEGORIES:Community Event
ATTACH;FMTTYPE=image/jpeg:https://fanwa.org/wp-content/uploads/2025/04/faith-labor-tax-the-rich-message-training2.jpg
END:VEVENT
END:VCALENDAR