BEGIN:VCALENDAR
VERSION:2.0
PRODID:-//Faith Action Network - ECPv6.15.20//NONSGML v1.0//EN
CALSCALE:GREGORIAN
METHOD:PUBLISH
X-ORIGINAL-URL:https://fanwa.org
X-WR-CALDESC:Events for Faith Action Network
REFRESH-INTERVAL;VALUE=DURATION:PT1H
X-Robots-Tag:noindex
X-PUBLISHED-TTL:PT1H
BEGIN:VTIMEZONE
TZID:America/Los_Angeles
BEGIN:DAYLIGHT
TZOFFSETFROM:-0800
TZOFFSETTO:-0700
TZNAME:PDT
DTSTART:20240310T100000
END:DAYLIGHT
BEGIN:STANDARD
TZOFFSETFROM:-0700
TZOFFSETTO:-0800
TZNAME:PST
DTSTART:20241103T090000
END:STANDARD
BEGIN:DAYLIGHT
TZOFFSETFROM:-0800
TZOFFSETTO:-0700
TZNAME:PDT
DTSTART:20250309T100000
END:DAYLIGHT
BEGIN:STANDARD
TZOFFSETFROM:-0700
TZOFFSETTO:-0800
TZNAME:PST
DTSTART:20251102T090000
END:STANDARD
BEGIN:DAYLIGHT
TZOFFSETFROM:-0800
TZOFFSETTO:-0700
TZNAME:PDT
DTSTART:20260308T100000
END:DAYLIGHT
BEGIN:STANDARD
TZOFFSETFROM:-0700
TZOFFSETTO:-0800
TZNAME:PST
DTSTART:20261101T090000
END:STANDARD
END:VTIMEZONE
BEGIN:VEVENT
DTSTART;TZID=America/Los_Angeles:20250220T090000
DTEND;TZID=America/Los_Angeles:20250220T150000
DTSTAMP:20260424T052412
CREATED:20250115T220055Z
LAST-MODIFIED:20250115T220225Z
UID:29261-1740042000-1740063600@fanwa.org
SUMMARY:Interfaith Advocacy Day 2025
DESCRIPTION:IFAD 2025 registration is now open. \nThursday\, February 20\, 2024\n9:00 AM – 3:00 PM \nThe United Churches of Olympia\n110 11th Ave SE\nOlympia\, WA 98501 \nLearn more and Register for Interfaith Advocacy Day 2025.
URL:https://fanwa.org/event/interfaith-advocacy-day-2025/
LOCATION:Olympia State Capitol Building\, 415 Sid Snyder Ave SW\, Olympia\, WA\, 98504\, United States
CATEGORIES:Featured Event
ATTACH;FMTTYPE=image/jpeg:https://fanwa.org/wp-content/uploads/2024/02/Fan_Lobby_24_OUTSIDE_3_of_9_2df3282206f423f499400e291f35f52b-2.jpg
END:VEVENT
END:VCALENDAR