BEGIN:VCALENDAR
VERSION:2.0
PRODID:-//Faith Action Network - ECPv6.15.20//NONSGML v1.0//EN
CALSCALE:GREGORIAN
METHOD:PUBLISH
X-WR-CALNAME:Faith Action Network
X-ORIGINAL-URL:https://fanwa.org
X-WR-CALDESC:Events for Faith Action Network
REFRESH-INTERVAL;VALUE=DURATION:PT1H
X-Robots-Tag:noindex
X-PUBLISHED-TTL:PT1H
BEGIN:VTIMEZONE
TZID:America/Los_Angeles
BEGIN:DAYLIGHT
TZOFFSETFROM:-0800
TZOFFSETTO:-0700
TZNAME:PDT
DTSTART:20240310T100000
END:DAYLIGHT
BEGIN:STANDARD
TZOFFSETFROM:-0700
TZOFFSETTO:-0800
TZNAME:PST
DTSTART:20241103T090000
END:STANDARD
BEGIN:DAYLIGHT
TZOFFSETFROM:-0800
TZOFFSETTO:-0700
TZNAME:PDT
DTSTART:20250309T100000
END:DAYLIGHT
BEGIN:STANDARD
TZOFFSETFROM:-0700
TZOFFSETTO:-0800
TZNAME:PST
DTSTART:20251102T090000
END:STANDARD
BEGIN:DAYLIGHT
TZOFFSETFROM:-0800
TZOFFSETTO:-0700
TZNAME:PDT
DTSTART:20260308T100000
END:DAYLIGHT
BEGIN:STANDARD
TZOFFSETFROM:-0700
TZOFFSETTO:-0800
TZNAME:PST
DTSTART:20261101T090000
END:STANDARD
END:VTIMEZONE
BEGIN:VEVENT
DTSTART;TZID=America/Los_Angeles:20250105T160000
DTEND;TZID=America/Los_Angeles:20250105T170000
DTSTAMP:20260424T082456
CREATED:20250103T211641Z
LAST-MODIFIED:20250103T211852Z
UID:29146-1736092800-1736096400@fanwa.org
SUMMARY:2025 Legislative Session - Advocacy 101
DESCRIPTION:Transforming Our Future through Advocacy\nWe have a full slate of opportunities for you to grow your advocacy skills and learn about our policy priorities\, as well as an all-liaison meeting. Learn more below: \nJanuary 5th 4-5pm: Advocacy 101\, Register Here \n  \nJoin us via zoom with other advocates across the state to learn how to advocate during the legislative session. Both new advocates and returning ones seeking to refresh their knowledge are welcome. FAN staff will present some of the tools we use throughout the session\, with a chance for Q&A. FAN’s legislative agenda and policies will not be discussed in depth\, though we will share with you how to find more information. Please bring your questions!
URL:https://fanwa.org/event/2025-legislative-session-advocacy-101/
LOCATION:Zoom
CATEGORIES:Featured Event
END:VEVENT
BEGIN:VEVENT
DTSTART;TZID=America/Los_Angeles:20250109T120000
DTEND;TZID=America/Los_Angeles:20250109T130000
DTSTAMP:20260424T082456
CREATED:20250103T211608Z
LAST-MODIFIED:20250103T211942Z
UID:29148-1736424000-1736427600@fanwa.org
SUMMARY:2025 Legislative Session - Legislative Preview
DESCRIPTION:Transforming Our Future through Advocacy\nWe have a full slate of opportunities for you to grow your advocacy skills and learn about our policy priorities\, as well as an all-liaison meeting. Learn more below: \nJanuary 9th 12-1pm: *Legislative Preview\, Register Here\nJanuary 12th 4-5pm: *Legislative Preview\, Register Here \nJoin FAN advocates across the state to learn more about FAN’s legislative agenda for 2025 and the opportunities to support legislation that will make a difference in our communities. \nFAN Policy Engagement Director\, Kristin Ang\, will provide an overview of the current landscape of the 2025 legislative session followed by a presentation on FAN’s legislative agenda with a Q&A. In light of the threats of mass deportations made by the incoming federal administration\, we will also be highlighting action steps we can all take as part of Washington Immigrant Solidarity Network (WAISN)’s Deportation Defense. \nPlease join us! Please also note that both January 9th and January 12th presentations will be similar in content so you do not need to attend both to be fully informed. \n*Please note that we have two time offerings–evening and afternoon–for the Legislative Preview. The content will be the same for both.
URL:https://fanwa.org/event/legislative-preview-3/
LOCATION:Zoom
CATEGORIES:Featured Event
END:VEVENT
BEGIN:VEVENT
DTSTART;TZID=America/Los_Angeles:20250112T160000
DTEND;TZID=America/Los_Angeles:20250112T170000
DTSTAMP:20260424T082456
CREATED:20250103T211529Z
LAST-MODIFIED:20250103T211916Z
UID:29150-1736697600-1736701200@fanwa.org
SUMMARY:2025 Legislative Session - Legislative Preview
DESCRIPTION:Transforming Our Future through Advocacy\nWe have a full slate of opportunities for you to grow your advocacy skills and learn about our policy priorities\, as well as an all-liaison meeting. Learn more below: \nJanuary 12th 4-5pm: *Legislative Preview\, Register Here \n*Please note that we have two time offerings–evening and afternoon–for the Legislative Preview. The content will be the same for both. \nJoin FAN advocates across the state to learn more about FAN’s legislative agenda for 2025 and the opportunities to support legislation that will make a difference in our communities. \nFAN Policy Engagement Director\, Kristin Ang\, will provide an overview of the current landscape of the 2025 legislative session followed by a presentation on FAN’s legislative agenda with a Q&A. In light of the threats of mass deportations made by the incoming federal administration\, we will also be highlighting action steps we can all take as part of Washington Immigrant Solidarity Network (WAISN)’s Deportation Defense. \nPlease join us! Please also note that both January 9th and January 12th presentations will be the same content so you do not need to attend both to be fully informed.
URL:https://fanwa.org/event/legislative-preview-2/
LOCATION:Zoom
CATEGORIES:Featured Event
END:VEVENT
BEGIN:VEVENT
DTSTART;TZID=America/Los_Angeles:20250115T120000
DTEND;TZID=America/Los_Angeles:20250115T130000
DTSTAMP:20260424T082456
CREATED:20250103T211449Z
LAST-MODIFIED:20250103T211449Z
UID:29152-1736942400-1736946000@fanwa.org
SUMMARY:FAN All Liaison Meeting: Organizing Your Faith Community for Advocacy
DESCRIPTION:Transforming Our Future through Advocacy\nJanuary 15th 12-1pm \nFAN All Liaison Meeting: Organizing Your Faith Community for Advocacy\, Register Here \nWe are so grateful to those of you who serve as liaisons between your faith community and FAN! We want to take time at the beginning of this legislative to hear how we can best support you during the session. We also want  to make the space for our liaisons to share with each other ideas\, strategies\, and tools that you’ve found helpful in supporting advocacy within your faith communities. \nWe invite FAN liaisons\, members of social/environmental justice committees\, and other faith community members active in–or hoping to be active in–advocacy to join us on Wednesday\, January 15\, 12-1:00pm on Zoom. A Zoom link will be sent to your email after you register.
URL:https://fanwa.org/event/fan-all-liaison-meeting-organizing-your-faith-community-for-advocacy/
LOCATION:Zoom
CATEGORIES:Featured Event
END:VEVENT
BEGIN:VEVENT
DTSTART;TZID=America/Los_Angeles:20250125T083000
DTEND;TZID=America/Los_Angeles:20250125T150000
DTSTAMP:20260424T082456
CREATED:20250115T220302Z
LAST-MODIFIED:20250115T220901Z
UID:29264-1737793800-1737817200@fanwa.org
SUMMARY:Eastern Washington Legislative Conference
DESCRIPTION:FAN would like to invite you to the Fig Tree’s Eastern Washington Legislative Conference on Saturday\, January 25\, 8:30 am – 3:00 pm. We are pleased to help plan this event with the Fig Tree\, Spokane NAACP\, Earth Ministry/WAIPL\, and Catholic Charities of Eastern Washington. This year’s theme is “What does it mean to be prophetic?” Register here \nEvent highlights: \n\nKeynote Panel with Indigenous leaders on river health and salmon restoration.\nYouth Advocate Panel\nPolicy briefings from FAN’s Policy Engagement Director\, Kristin Ang\, Earth Ministry/WAIPL\, and Washington State Catholic Conference.\nIssue workshops\, including an Advocacy 101 workshop from FAN Eastern Washington Regional Organizer\, Brianna Dilts\, and AC Churchill of Earth Ministry/WAIPL\n\nRegister here
URL:https://fanwa.org/event/eastern-washington-legislative-conference-2/
LOCATION:Spokane Valley United Methodist Church\, 115 N. Raymond Rd\, Spokane Valley\, WA\, 99206
CATEGORIES:Featured Event
ATTACH;FMTTYPE=image/jpeg:https://fanwa.org/wp-content/uploads/2025/01/2025-Eastern-Washington-Legislative-Conference.jpg
ORGANIZER;CN="The Fig Tree":MAILTO:info@thefigtree.org
END:VEVENT
END:VCALENDAR