BEGIN:VCALENDAR
VERSION:2.0
PRODID:-//Faith Action Network - ECPv6.15.20//NONSGML v1.0//EN
CALSCALE:GREGORIAN
METHOD:PUBLISH
X-ORIGINAL-URL:https://fanwa.org
X-WR-CALDESC:Events for Faith Action Network
REFRESH-INTERVAL;VALUE=DURATION:PT1H
X-Robots-Tag:noindex
X-PUBLISHED-TTL:PT1H
BEGIN:VTIMEZONE
TZID:America/Los_Angeles
BEGIN:DAYLIGHT
TZOFFSETFROM:-0800
TZOFFSETTO:-0700
TZNAME:PDT
DTSTART:20230312T100000
END:DAYLIGHT
BEGIN:STANDARD
TZOFFSETFROM:-0700
TZOFFSETTO:-0800
TZNAME:PST
DTSTART:20231105T090000
END:STANDARD
BEGIN:DAYLIGHT
TZOFFSETFROM:-0800
TZOFFSETTO:-0700
TZNAME:PDT
DTSTART:20240310T100000
END:DAYLIGHT
BEGIN:STANDARD
TZOFFSETFROM:-0700
TZOFFSETTO:-0800
TZNAME:PST
DTSTART:20241103T090000
END:STANDARD
BEGIN:DAYLIGHT
TZOFFSETFROM:-0800
TZOFFSETTO:-0700
TZNAME:PDT
DTSTART:20250309T100000
END:DAYLIGHT
BEGIN:STANDARD
TZOFFSETFROM:-0700
TZOFFSETTO:-0800
TZNAME:PST
DTSTART:20251102T090000
END:STANDARD
END:VTIMEZONE
BEGIN:VEVENT
DTSTART;TZID=America/Los_Angeles:20241011T120000
DTEND;TZID=America/Los_Angeles:20241011T140000
DTSTAMP:20260424T111410
CREATED:20240919T163543Z
LAST-MODIFIED:20240919T163543Z
UID:28970-1728648000-1728655200@fanwa.org
SUMMARY:Understanding the Impacts of the United States Indian Boarding Schools: A Panel Discussion
DESCRIPTION:Understanding the Impacts of the United States Indian Boarding Schools: A Panel Discussion \nFriday\, October 11\, 12:00-2:00 pm on Zoom \nUse the QR code on the flyer to register or contact Elizabeth\, dickinson@fanwa.org
URL:https://fanwa.org/event/understanding-the-impacts-of-the-united-states-indian-boarding-schools-a-panel-discussion/
END:VEVENT
END:VCALENDAR