BEGIN:VCALENDAR
VERSION:2.0
PRODID:-//Faith Action Network - ECPv6.15.20//NONSGML v1.0//EN
CALSCALE:GREGORIAN
METHOD:PUBLISH
X-ORIGINAL-URL:https://fanwa.org
X-WR-CALDESC:Events for Faith Action Network
REFRESH-INTERVAL;VALUE=DURATION:PT1H
X-Robots-Tag:noindex
X-PUBLISHED-TTL:PT1H
BEGIN:VTIMEZONE
TZID:America/Los_Angeles
BEGIN:DAYLIGHT
TZOFFSETFROM:-0800
TZOFFSETTO:-0700
TZNAME:PDT
DTSTART:20250309T100000
END:DAYLIGHT
BEGIN:STANDARD
TZOFFSETFROM:-0700
TZOFFSETTO:-0800
TZNAME:PST
DTSTART:20251102T090000
END:STANDARD
BEGIN:DAYLIGHT
TZOFFSETFROM:-0800
TZOFFSETTO:-0700
TZNAME:PDT
DTSTART:20260308T100000
END:DAYLIGHT
BEGIN:STANDARD
TZOFFSETFROM:-0700
TZOFFSETTO:-0800
TZNAME:PST
DTSTART:20261101T090000
END:STANDARD
BEGIN:DAYLIGHT
TZOFFSETFROM:-0800
TZOFFSETTO:-0700
TZNAME:PDT
DTSTART:20270314T100000
END:DAYLIGHT
BEGIN:STANDARD
TZOFFSETFROM:-0700
TZOFFSETTO:-0800
TZNAME:PST
DTSTART:20271107T090000
END:STANDARD
END:VTIMEZONE
BEGIN:VEVENT
DTSTART;TZID=America/Los_Angeles:20260212T083000
DTEND;TZID=America/Los_Angeles:20260212T150000
DTSTAMP:20260424T051731
CREATED:20251222T220540Z
LAST-MODIFIED:20251222T220621Z
UID:29940-1770885000-1770908400@fanwa.org
SUMMARY:Interfaith Advocacy Day 2026
DESCRIPTION:Interfaith Advocacy Day is one of the largest gatherings of people of faith in the state Capitol. We bring the voices of compassion and justice to our elected leaders. Meeting with your legislators and their staff on this day is putting your faith into action! \nFebruary 12\, 2026\n8:30 AM to 3:00 PM \nOlympia\, WA (exact location details to be shared soon) \nPlease contact FAN for any further questions or concerns at fan@fanwa.org \nRegister for Interfaith Advocacy Day \nAdditional information on fanwa.org/interfaith-advocacy-day/ \n 
URL:https://fanwa.org/event/interfaith-advocacy-day-2026/
ATTACH;FMTTYPE=image/jpeg:https://fanwa.org/wp-content/uploads/2025/12/IFAD-Save-the-Date-Slide-4.jpg
END:VEVENT
BEGIN:VEVENT
DTSTART;TZID=America/Los_Angeles:20260325T180000
DTEND;TZID=America/Los_Angeles:20260325T190000
DTSTAMP:20260424T051731
CREATED:20260318T061150Z
LAST-MODIFIED:20260321T045211Z
UID:30255-1774461600-1774465200@fanwa.org
SUMMARY:FAN 2026 Spring Legislative Session Celebration
DESCRIPTION:Celebration and Reflections from the Legislative Session \nWednesday\, March 25th\, 6:00-7:00pm \n \n\nRegister Here \n  \n\nFacilitated by Kristin Ang and FAN Staff \nDuring this time\, we will: \n\nCelebrate our advocacy and policy wins this legislative session! FAN’s Policy Engagement Director\, Kristin Ang\, will share a virtual recap of the legislative session with a Q&A.\nConnect around the shared values that ground our advocacy.\nShare and reflect how you feel our collective advocacy will affect your faith community\, city or you personally.\n\nIf you have any questions please contact our FAN office at fan@fanwa.org \n\n\n\nWhen\nMarch 25\, 2026 from  6:00 PM to  7:00 PM\n\n\n\nContact\n\nPhone: (206) 625-9790\nEmail: fan@fanwa.org
URL:https://fanwa.org/event/fan-2026-spring-legislative-session-celebration/
ATTACH;FMTTYPE=image/jpeg:https://fanwa.org/wp-content/uploads/2026/03/2026-FAN-Legislation-Celebration-Promo-Flyer-2-1-e1774068722439.jpg
END:VEVENT
END:VCALENDAR